BEGIN:VCALENDAR
VERSION:2.0
BEGIN:VEVENT
URL:https://maxwattssydney.oztix.com.au/outlet/event/f436de2f-ec92-4364-9506-250f9d2b26e0
DTSTART:20200320T090000Z
DTEND:20200320T090000Z
SUMMARY:Coming out of my Cave and I've been doin' just fine
DESCRIPTION:Event details: https://maxwattssydney.oztix.com.au/outlet/event/f436de2f-ec92-4364-9506-250f9d2b26e0
LOCATION:Max Watt's Sydney (Moore Park, NSW)
END:VEVENT
END:VCALENDAR