BEGIN:VCALENDAR
VERSION:2.0
BEGIN:VEVENT
URL:https://maxwattssydney.oztix.com.au/outlet/event/c22309b8-31d0-4571-8d2c-70a8885e3842
DTSTART:20200304T090000Z
DTEND:20200304T090000Z
SUMMARY:SAINt JHN
DESCRIPTION:Event details: https://maxwattssydney.oztix.com.au/outlet/event/c22309b8-31d0-4571-8d2c-70a8885e3842
LOCATION:Max Watt's Sydney (Moore Park, NSW)
END:VEVENT
END:VCALENDAR