BEGIN:VCALENDAR
VERSION:2.0
BEGIN:VEVENT
URL:https://maxwattssydney.oztix.com.au/outlet/event/a9e43b30-f574-46b2-a172-efd3f5954c19
DTSTART:20200327T083000Z
DTEND:20200327T083000Z
SUMMARY:Flicker Live: The Chairs, Accusefive
DESCRIPTION:Event details: https://maxwattssydney.oztix.com.au/outlet/event/a9e43b30-f574-46b2-a172-efd3f5954c19
LOCATION:Max Watt's Sydney (Moore Park, NSW)
END:VEVENT
END:VCALENDAR