BEGIN:VCALENDAR
VERSION:2.0
BEGIN:VEVENT
URL:https://maxwattssydney.oztix.com.au/outlet/event/8c6008b3-4a5f-44c6-b452-b27ea4b96708
DTSTART:20200313T080000Z
DTEND:20200313T080000Z
SUMMARY:Ari Lennox
DESCRIPTION:Event details: https://maxwattssydney.oztix.com.au/outlet/event/8c6008b3-4a5f-44c6-b452-b27ea4b96708
LOCATION:Max Watt's Sydney (Moore Park, NSW)
END:VEVENT
END:VCALENDAR