BEGIN:VCALENDAR
VERSION:2.0
BEGIN:VEVENT
URL:https://maxwattssydney.oztix.com.au/outlet/event/810a26f7-1676-4d73-ad74-2aa9fd248610
DTSTART:20200321T090000Z
DTEND:20200321T090000Z
SUMMARY:Norooz Party
DESCRIPTION:Event details: https://maxwattssydney.oztix.com.au/outlet/event/810a26f7-1676-4d73-ad74-2aa9fd248610
LOCATION:Max Watt's Sydney (Moore Park, NSW)
END:VEVENT
END:VCALENDAR