BEGIN:VCALENDAR
VERSION:2.0
BEGIN:VEVENT
URL:https://maxwattssydney.oztix.com.au/outlet/event/62d9c852-fa8f-493f-90e7-56ff5f82b399
DTSTART:20200508T093000Z
DTEND:20200508T093000Z
SUMMARY:YBN Cordae
DESCRIPTION:Event details: https://maxwattssydney.oztix.com.au/outlet/event/62d9c852-fa8f-493f-90e7-56ff5f82b399
LOCATION:Max Watt's Sydney (Moore Park, NSW)
END:VEVENT
END:VCALENDAR