BEGIN:VCALENDAR
VERSION:2.0
BEGIN:VEVENT
URL:https://maxwattssydney.oztix.com.au/outlet/event/50fd4cae-5485-438d-b641-56a161de685d
DTSTART:20200425T090000Z
DTEND:20200425T090000Z
SUMMARY:The Other Favorites and Reina del Cid
DESCRIPTION:Event details: https://maxwattssydney.oztix.com.au/outlet/event/50fd4cae-5485-438d-b641-56a161de685d
LOCATION:Max Watt's Sydney (Moore Park, NSW)
END:VEVENT
END:VCALENDAR