BEGIN:VCALENDAR
VERSION:2.0
BEGIN:VEVENT
URL:https://maxwattssydney.oztix.com.au/outlet/event/130d922e-76ca-4167-a585-66aff003d321
DTSTART:20200501T100000Z
DTEND:20200501T100000Z
SUMMARY:Texas Music Takeover
DESCRIPTION:Event details: https://maxwattssydney.oztix.com.au/outlet/event/130d922e-76ca-4167-a585-66aff003d321
LOCATION:Max Watt's Sydney (Moore Park, NSW)
END:VEVENT
END:VCALENDAR