BEGIN:VCALENDAR
VERSION:2.0
BEGIN:VEVENT
URL:https://maxwattssydney.oztix.com.au/outlet/event/00b5d0a9-23f8-4b71-a6cf-589bf5f5286f
DTSTART:20200517T093000Z
DTEND:20200517T093000Z
SUMMARY:Max Barskih
DESCRIPTION:Event details: https://maxwattssydney.oztix.com.au/outlet/event/00b5d0a9-23f8-4b71-a6cf-589bf5f5286f
LOCATION:Max Watt's Sydney (Moore Park, NSW)
END:VEVENT
END:VCALENDAR